BEGIN:VCALENDAR
VERSION:2.0
PRODID:Events Booking
BEGIN:VEVENT
UID:69eb9d9a1206a
SUMMARY:PMP / CAPM Exam Prep Boot Camp - Online - 2019708
DESCRIPTION:Date: Saturdays (4 hours a week\, over 6 weeks) November 9\, 16
 \, 23\, 30\;&nbsp\;December 7\, 14\, 2019Time:&nbsp\;10:30am - 2:30pm ESTL
 ocation: Online! WebEx Virtual Class (Note: PM Enterprises will provide th
 e URL and Dial-In information in advance of the session.)
 Earn 35 PDUs!
 
 PM Enterprises (a PMI Registered Education Provider) is proud to partner
  with the PMI Atlanta Chapter to offer an online\, instructor-led PMP/CAPM
  Exam Preparation Boot Camp. This high-quality course is unique in its lev
 el of participant interaction\, activities\, and exercises that engage par
 ticipants and ensure understanding and retention of all exam concepts. The
  course is delivered via WebEx allowing you to conveniently participate fr
 om your home or office. In addition\, all sessions are recorded and can be
  reviewed for up to four weeks after the last class.&nbsp\;
DTSTART:20191109T153000Z
DTEND:20191214T193000Z
DTSTAMP:20260424T164306Z
ORGANIZER;CN=PMI Atlanta Chapter:MAILTO:donotreply@pmiatlanta.org
END:VEVENT
END:VCALENDAR