BEGIN:VCALENDAR
VERSION:2.0
PRODID:Events Booking
BEGIN:VEVENT
UID:69eb9f0767415
SUMMARY:Disciplined Agile Scrum Master Certification Training  (Virtual) - 
 210430
DESCRIPTION:Get started with Disciplined Agile.
 Begin your agile journey 
 learning multiple agile approaches\; understand how to use the Disciplined
  Agile tool kit and find your way of working (WoW). Comprehensive training
  introduces leading agile and lean approaches like Scrum\, Kanban\, SAFe®
 &nbsp\;and more that frees you from any single agile framework and opens y
 our options.
 Is your team treading water using waterfall? Do you feel tr
 apped in an agile framework? Would you like to find solutions to the probl
 ems you’ve been wrestling with? Are you looking for ways to enhance your
  team’s agility?
 Break free from your old ways by choosing a way of wo
 rking that fits your team’s context. Find strategies to improve your pro
 cesses and strengthen your team with the Disciplined Agile tool kit.
 Dis
 ciplined Agile Scrum Master&nbsp\;is a nine-lesson\, instructor-led course
  that shows you how to use Disciplined Agile (DA) to improve your team’s
  way of working. In just two days\, you’ll become familiar with foundati
 onal agile and lean practices that DA supports\, practice using the tool k
 it to solve problems\, and learn how to build high-performance teams.
 Fi
 lled with activities\, animations\, supplemental reading\, and more\, this
  course will prepare you to take the Disciplined Agile Scrum Master (DASM)
  exam and\, equally important\, start using Disciplined Agile immediately.
 
 This course is designed for project practitioners who plan to get PMI
 ’s DA Scrum Master Certification. No agile experience is required – th
 is is introductory training and certification built to educate on agile an
 d lean fundamentals and the Disciplined Agile tool kit.&nbsp\;
 Training 
 participants who complete this DASM training are eligible to take the DA S
 M certification test\, within 30 days from the course completion (at no ad
 ditional certification charges). With a test score of 70% (or more)\, the 
 participant becomes a Certified DA Scrum Master.
 The course registration
  fee includes cost for course materials purchased from PMI\, free access t
 o ebook: Choose Your Way
 and the DASM certification fee\, so students do
  not have pay the DASM certification fee when they take the DASM certifica
 tion exam\, within 30 days from DASM course completion.
 The digital vers
 ion (ebook) of the book: Choose Your Way of Working (WoW) is also availabl
 e to PMI members at no cost.
 &nbsp\;
DTSTART:20210611T123000Z
DTEND:20210612T203000Z
DTSTAMP:20260424T164911Z
ORGANIZER;CN=PMI Atlanta Chapter:MAILTO:donotreply@pmiatlanta.org
END:VEVENT
END:VCALENDAR