BEGIN:VCALENDAR
VERSION:2.0
PRODID:Events Booking
BEGIN:VEVENT
UID:69e4e33773d72
SUMMARY:PMI Atlanta's 40th Anniversary Celebration Sponsorship Opportunity
DESCRIPTION:We invite you to sponsor our 40th Anniversary Celebration held 
 Friday\, October 22 starting at 5:30pm.
 Sponsorship Benefits
 
 Logo a
 nd link on event page\, chapter’s targeted newsletters\, and chapter’s
  weekly newsletters in September and October 2021
 Setup table for displa
 y of brochures and literature on event day
 Network with attendees during
  open networking hour
 Recognition as sponsor during announcements on eve
 nt day
 Display information sheet slide prior to keynote speaker’s pres
 entation
 Opportunity for representative to address attendees for two min
 utes prior to keynote speaker presentation
 Two seats to the dinner and p
 rogram\, post event celebration\, and social hour
 
 For any questions o
 r to donate to the raffle please contact Jennifer Bracewell at 678-594-867
 4 or Richard Weaver at 678-667-1175. You may also send an email to Jennife
 r here.
 Thank you for your continued support of the chapter!
LOCATION:800 Spring St NW\, Atlanta\, GA 30308\, USA
DTSTART:20211022T220000Z
DTEND:20211023T010000Z
DTSTAMP:20260419T141415Z
ORGANIZER;CN=PMI Atlanta Chapter:MAILTO:donotreply@pmiatlanta.org
GEO:33.776402;-84.38926
X-APPLE-STRUCTURED-LOCATION;VALUE=URI;X-ADDRESS=800 Spring St NW\, Atlanta\
 , GA 30308\, USA;X-APPLE-RADIUS=72;X-TITLE=Georgia Tech Hotel and Conferen
 ce Center:33.776402;-84.38926
END:VEVENT
END:VCALENDAR