BEGIN:VCALENDAR
VERSION:2.0
PRODID:Events Booking
BEGIN:VEVENT
UID:69e4cef6c5181
SUMMARY:PMI Atlanta's 40th Anniversary Celebration
DESCRIPTION:
 Join us for an historic celebration dinner\,&nbsp\;honoring 
 PMI Atlanta's 40 years of service to the community!&nbsp\;
 PMI Atlanta i
 s honored to hold our event at the birthplace of PMI - Georgia Tech. Georg
 ia Tech Hotel and Conference Center\, a world-class event facility\, situa
 ted on campus in midtown Atlanta\, will host us for the evening and provid
 e hotel rooms at a group rate of $159 for any guests wishing to stay the n
 ight. The night will be filled with networking opportunities\, presentatio
 ns\, and a chance to show off your dance moves!
 Leaders from the PMI Atl
 anta Chapter will highlight the Chapter's founding\, growth\, and show how
  the Atlanta chapter leads by example in the form of giving back to the co
 mmunity.
 If you are interested in sponsoring this event\, please visit o
 ur sponsorship page.
LOCATION:800 Spring St NW\, Atlanta\, GA 30308\, USA
DTSTART:20211022T213000Z
DTEND:20211023T010000Z
DTSTAMP:20260419T124750Z
ORGANIZER;CN=PMI Atlanta Chapter:MAILTO:donotreply@pmiatlanta.org
GEO:33.776402;-84.38926
X-APPLE-STRUCTURED-LOCATION;VALUE=URI;X-ADDRESS=800 Spring St NW\, Atlanta\
 , GA 30308\, USA;X-APPLE-RADIUS=72;X-TITLE=Georgia Tech Hotel and Conferen
 ce Center:33.776402;-84.38926
END:VEVENT
END:VCALENDAR