BEGIN:VCALENDAR
VERSION:2.0
PRODID:Events Booking
BEGIN:VEVENT
UID:69eaa388d8e63
SUMMARY:Career Series: Brand and Land ChatGPT Workshop
DESCRIPTION:
 Many of you likely know and use ChatGPT today to serve as a 
 virtual personal assistant. However\, do you know how to use ChatGPT to tu
 rbocharge your professional career? Specifically\, how many of you know ho
 w to use ChatGPT to establish and enhance your resume and LinkedIn profile
  to increase your visibility with recruiters? Also\, do you know how to us
 e the tool to create a customizable job search strategy to increase your o
 dds of landing the role you are seeking today? In addition\, do you know t
 o use ChatGPT as an interviewer to earn the job you’re seeking today?
 
 If the answer to any of these questions is “no” or even “I’m not s
 ure\,” then you owe it to yourself to learn the fundamentals of ChatGPT 
 to boost your career.
 The PMI Atlanta Chapter is pleased to present the 
 Brand and Land ChatGPT workshop conducted by Signofied Services. This work
 shop is intended to provide registered attendees with insights on how to s
 uccessfully prepare for your next interview.
 The Brand and Land ChatGPT 
 workshop is a 90-minute weekend event that teaches participants how to imp
 rove their professional marketability by teaching the following skills:
 
 
 Resume Optimization
 LinkedIn Profile Optimization
 Advanced Job Sear
 ch Techniques
 Interview Preparation
 
 This hands-on event will improv
 e your ChatGPT skills whether you are an active job seeker or currently em
 ployed professional.
DTSTART:20240323T150000Z
DTEND:20240323T163000Z
DTSTAMP:20260423T225608Z
ORGANIZER;CN=PMI Atlanta Chapter:MAILTO:donotreply@pmiatlanta.org
END:VEVENT
END:VCALENDAR