BEGIN:VCALENDAR
VERSION:2.0
PRODID:Events Booking
BEGIN:VEVENT
UID:69e50fd45d12b
SUMMARY:SOLD OUT Chapter Meeting (In-Person) - The Art of Facilitation: Enh
 ancing Meetings Through Effective Communication
DESCRIPTION:Join us at our new venue\, Maggiano's\, for our May Chapter Mee
 ting! We provide opportunities to network and build your skills. Plus\, ea
 rn PDUs for each session.&nbsp\;
 Newcomers Meeting - 6:00pm - 6:45pm
 I
 f you are a new member to PMI Atlanta\, you do not want to miss this oppor
 tunity to hear how we can help you&nbsp\;achieve your goals and meet membe
 rs of the leadership team.&nbsp\;
 Networking Session - 6:00pm - 6:45pm

  Networking activities to establish new connections.&nbsp\;Be prepared to 
 stretch your legs and communication skills!
 Keynote Presentation - 7:00p
 m - 8:00pm
 \"The Art of Facilitation: Enhancing Meetings Through Effecti
 ve Communication\" presented by&nbsp\;Joshua R. Pisani\, Project Manager I
 I at MARTA
LOCATION:4400 Ashford Dunwoody Rd Space #3035\, Dunwoody\, GA 30346\, USA
DTSTART:20240520T220000Z
DTEND:20240521T003000Z
DTSTAMP:20260419T172436Z
ORGANIZER;CN=PMI Atlanta Chapter:MAILTO:donotreply@pmiatlanta.org
GEO:33.922899;-84.339966
X-APPLE-STRUCTURED-LOCATION;VALUE=URI;X-ADDRESS=4400 Ashford Dunwoody Rd Sp
 ace #3035\, Dunwoody\, GA 30346\, USA;X-APPLE-RADIUS=72;X-TITLE=Maggiano's
  Little Italy:33.922899;-84.339966
END:VEVENT
END:VCALENDAR