BEGIN:VCALENDAR
VERSION:2.0
PRODID:Events Booking
BEGIN:VEVENT
UID:69ea91af246bb
SUMMARY:Chapter Meeting (In-Person Perimeter): \"Tailoring PM Skills to Max
 imize Public Sector Effectiveness\"
DESCRIPTION:Join us at our next meeting at Maggiano's Perimeter for our mos
 t popular in-person event. We provide opportunities to network and build y
 our skills. Plus\, earn PDUs for each session.&nbsp\;
 Chapter Orientatio
 n - 6:00pm - 6:45pm
 If you are a new member to PMI Atlanta\, you do not 
 want to miss this opportunity to hear how we can help you&nbsp\;achieve yo
 ur goals and meet members of the leadership team.&nbsp\;
 Networking Sess
 ion - 6:00pm - 6:45pm
 Networking activities to establish new connections
 .&nbsp\;Be prepared to stretch your legs and communication skills!
 
 Ke
 ynote Presentation - 7:00pm - 8:00pm
 \"Tailoring PM Skills to Maximize P
 ublic Sector Effectiveness\" presented by Srinivas Jalla\,&nbsp\;Assistant
  County Administrator for Gwinnett County Government
 In the public secto
 r\, local governments must balance public interest and welfare\, risk aver
 sion\, and compliance with policy and legislative mandates while deliverin
 g vital services\, infrastructure\, and programs. This presentation will e
 xplore a case study highlighting the strategies and insights that laid the
  foundation for driving successful change within a public sector organizat
 ion. It will demonstrate how a small team with limited authority is advanc
 ing operational excellence across multiple departments of a local governme
 nt offering valuable lessons for achieving impactful change with constrain
 ed resources.
LOCATION:4400 Ashford Dunwoody Rd Space #3035\, Dunwoody\, GA 30346\, USA
DTSTART:20250310T220000Z
DTEND:20250311T003000Z
DTSTAMP:20260423T213959Z
ORGANIZER;CN=PMI Atlanta Chapter:MAILTO:donotreply@pmiatlanta.org
GEO:33.922899;-84.339966
X-APPLE-STRUCTURED-LOCATION;VALUE=URI;X-ADDRESS=4400 Ashford Dunwoody Rd Sp
 ace #3035\, Dunwoody\, GA 30346\, USA;X-APPLE-RADIUS=72;X-TITLE=Maggiano's
  Little Italy:33.922899;-84.339966
END:VEVENT
END:VCALENDAR